BEGIN:VCALENDAR
VERSION:2.0
PRODID:-//ChamberMaster//Event Calendar 2.0//EN
METHOD:PUBLISH
X-PUBLISHED-TTL:P3D
REFRESH-INTERVAL:P3D
CALSCALE:GREGORIAN
BEGIN:VEVENT
DTSTART:20190916T174500Z
DTEND:20190917T013000Z
X-MICROSOFT-CDO-ALLDAYEVENT:FALSE
SUMMARY:2019 Highland Park & Winnetka-Northfield Chambers Golf Outing
DESCRIPTION:Come enjoy the summer with us!\n\n\n\nThe Highland Park and Winnetka-Northfield Chambers of Commerce invite you to participate in our Chamber Golf Outing and Dinner. Enjoy a wonderful celebration of the game\, food\, spirits\, friendship\, networking and community. \n\n\n\nThis outing is a great opportunity for relationship building and fun with colleagues\, clients and friends. 18 holes of golf\, scramble format\, dinner and prizes. Proceeds from the Golf Outing support expanded programming and services for our businesses and community. \n\n\n\nIf you're not a golfer\, there is still opportunity for you to engage:\n\n\n	Attend the cocktail hour and dinner\n	Donate an item to our raffle\n	Purchase raffle tickets (See Prizes below))\n	Sponsor the event (See Sponsorship Opportunities!)\n\n\nContact the Highland Park Chamber at 847-432-0284 or info@chamberhp.com for additional information.\n\n\n\nWe look forward to having you join us in this fun event! \n\n\n\nPrize Drawing: Tickets $10 each or 3 for $25 \n\nClick 'Register Now'\, select # of tickets and choose which prize you'd like to be entered to win! Winner need not be present.\n\n\n\n*2 Blackhawks TX (Date TBD) Value $350\n\n \n\n*4 VIP TX to the Winnetka Music Festival  Value $600\n\n \n\n*White Sox autographed jersey and ball  Value $300\n\n \n\n*Golf Foursome at Sunset Valley Golf Club\n\nHighland Park  Value $800\n\n\n\nProceeds to benefit the expansion of the many products & services offered by the Highland Park & Winnetka-Northfield chambers of commerce. Chambers are nonprofit\, 501(c)(6) organizations.
X-ALT-DESC;FMTTYPE=text/html:<br />\n<span style="font-family:gill sans mt\,sans-serif\;"><span style="font-size:12.0pt\;">Come enjoy the summer with us!</span></span><br />\n<br />\n<span style="font-family:gill sans mt\,sans-serif\;"><span style="font-size:12.0pt\;">The Highland Park and Winnetka-Northfield Chambers of Commerce invite you to participate in our Chamber Golf Outing and Dinner. Enjoy&nbsp\;a wonderful celebration of the game\, food\, spirits\, friendship\, networking and community. </span></span><br />\n<br />\n<span style="font-family:gill sans mt\,sans-serif\;"><span style="font-size:12.0pt\;">This outing is a great opportunity for relationship building and fun with colleagues\, clients and friends. 18 holes of golf\, scramble format\, dinner and prizes. Proceeds from the Golf Outing support expanded programming and services for our businesses and community. </span></span><br />\n<br />\n<span style="font-family:gill sans mt\,sans-serif\;"><span style="font-size:12.0pt\;">If you&rsquo\;re not a golfer\, there is still opportunity for you to engage:</span></span>\n\n<ul>\n	<li style="margin-bottom:0in\;margin-bottom:.0001pt\;"><span style="font-family:gill sans mt\,sans-serif\;"><span style="font-size:12.0pt\;">Attend the cocktail hour and dinner</span></span></li>\n	<li style="margin-bottom:0in\;margin-bottom:.0001pt\;"><span style="font-family:gill sans mt\,sans-serif\;"><span style="font-size:12.0pt\;">Donate an item to our raffle</span></span></li>\n	<li style="margin-bottom:0in\;margin-bottom:.0001pt\;"><strong><span style="font-family:gill sans mt\,sans-serif\;"><span style="font-size:12.0pt\;">Purchase raffle tickets </span></span></strong><span style="font-family:gill sans mt\,sans-serif\;"><span style="font-size:12.0pt\;">(See Prizes below))</span></span></li>\n	<li style="margin-bottom:0in\;margin-bottom:.0001pt\;"><span style="font-family:gill sans mt\,sans-serif\;"><span style="font-size:12.0pt\;">Sponsor the event (See <a href="https://chambermaster.blob.core.windows.net/userfiles/UserFiles/chambers/70/File/GolfSponsorship2019HP.pdf">Sponsorship Opportunities!</a>)</span></span></li>\n</ul>\n\n<div style="margin-bottom:0in\;margin-bottom:.0001pt\;"><span style="font-family:gill sans mt\,sans-serif\;"><span style="font-size:12.0pt\;">Contact the Highland Park Chamber at 847-432-0284 or </span></span><a href="mailto:info@chamberhp.com"><span style="text-decoration-line:none\;"><span style="color:windowtext\;"><span style="font-family:gill sans mt\,sans-serif\;"><span style="font-size:12pt\;">info@chamberhp.com</span></span></span></span></a><span style="font-family:gill sans mt\,sans-serif\;"><span style="font-size:12.0pt\;"> for additional information.</span></span><br />\n<br />\n<span style="font-family:gill sans mt\,sans-serif\;"><span style="font-size:12.0pt\;">We look forward to having you join us in this fun event!&nbsp\;<br />\n<br />\nPrize Drawing: Tickets $10 each or 3 for $25 </span></span></div>\n\n<div style="margin-bottom:0in\;margin-bottom:.0001pt\;"><span style="font-family:gill sans mt\,sans-serif\;"><span style="font-size:12.0pt\;">Click &#39\;<a href="https://highlandparkchamber.chambermaster.com/eventregistration/register/6899">Register Now</a>&#39\;\, select # of tickets and choose which prize you&#39\;d like to be entered to win! Winner need not be present.</span></span></div>\n\n<div style="margin-bottom:0in\;margin-bottom:.0001pt\;"><br />\n<strong><span style="font-family:avenir next condensed ultra lig\,sans-serif\;"><span style="font-size:11.0pt\;">*2 Blackhawks TX (Date TBD) Value $350</span></span><br />\n&nbsp\;<br />\n<span style="font-family:avenir next condensed ultra lig\,sans-serif\;"><span style="font-size:11.0pt\;">*4 VIP TX to the Winnetka Music Festival&nbsp\; Value $600</span></span><br />\n&nbsp\;<br />\n<span style="font-family:avenir next condensed ultra lig\,sans-serif\;"><span style="font-size:11.0pt\;">*White Sox autographed jersey and ball&nbsp\; Value $300</span></span><br />\n&nbsp\;<br />\n<span style="font-family:avenir next condensed ultra lig\,sans-serif\;"><span style="font-size:11.0pt\;">*Golf Foursome at Sunset Valley Golf Club</span></span><br />\n<span style="font-family:avenir next condensed ultra lig\,sans-serif\;"><span style="font-size:11.0pt\;">Highland Park&nbsp\; Value $800</span></span></strong><br />\n<br />\n<span style="font-family:avenir next condensed ultra lig\,sans-serif\;"><span style="font-size:9.0pt\;">Proceeds to benefit the expansion of the many products &amp\; services offered by the Highland Park&nbsp\;</span></span><span avenir="" condensed="" font-size:="" next="" style="font-family: " ultra="">&amp\;</span><span style="font-family:avenir next condensed ultra lig\,sans-serif\;"><span style="font-size:9.0pt\;"> Winnetka-Northfield chambers of commerce. Chambers are nonprofit\, 501(c)(6) organizations</span><span style="font-size:10.0pt\;">.</span></span></div>\n
LOCATION:Glencoe Golf Club 621 Westley Road Glencoe\, IL 60022
UID:e.70.6899
SEQUENCE:3
DTSTAMP:20260425T195749Z
URL:https://business.chamberhp.com/events/details/2019-highland-park-winnetka-northfield-chambers-golf-outing-6899
END:VEVENT

END:VCALENDAR
