BEGIN:VCALENDAR
VERSION:2.0
PRODID:-//ChamberMaster//Event Calendar 2.0//EN
METHOD:PUBLISH
X-PUBLISHED-TTL:P3D
REFRESH-INTERVAL:P3D
CALSCALE:GREGORIAN
BEGIN:VEVENT
DTSTART:20241207T173000Z
DTEND:20241207T190000Z
X-MICROSOFT-CDO-ALLDAYEVENT:FALSE
SUMMARY:Cookie and Cocoa Crawl - Ravinia District
DESCRIPTION:Kick off the holiday season!  Families\, children - everyone welcome to enjoy cocoa and cookies in the Ravinia District.
X-ALT-DESC;FMTTYPE=text/html:Kick off the holiday season!&nbsp\; Families\, children - everyone welcome to enjoy cocoa and cookies in the Ravinia District.
LOCATION:Ravinia District\, Highland Park: Green Bay Road and Sheridan Road near intersection of St. Johns Ave and Roger Williams Ave.
UID:e.70.8914
SEQUENCE:3
DTSTAMP:20260421T100655Z
URL:https://business.chamberhp.com/events/details/cookie-and-cocoa-crawl-ravinia-district-8914
END:VEVENT

END:VCALENDAR
