BEGIN:VCALENDAR
VERSION:2.0
PRODID:-//ChamberMaster//Event Calendar 2.0//EN
METHOD:PUBLISH
X-PUBLISHED-TTL:P3D
REFRESH-INTERVAL:P3D
CALSCALE:GREGORIAN
BEGIN:VEVENT
DTSTART:20200401T133000Z
DTEND:20200401T143000Z
X-MICROSOFT-CDO-ALLDAYEVENT:FALSE
SUMMARY:First Wednesday Connections 4/1/20 - Virtual
DESCRIPTION:April's First Wednesday Connections meeting is going virtual! We will be hosting this morning meeting as an interactive\, video conference for you to "Ask the Experts."  Mitch Bienvenue\, Director of the Illinois Small Business Development & International Trade Center at CLC and Jon Levey\, President Highland Park Bank & Trust\, will be with us to discuss the updates to small business emergency capital\, and to answer your questions. Please\, still register ahead of time so we know how many to expect on the conference line.\n\n\n\nLink to virtual meeting to be added here soon.\n\n\n\n\n\n\n\nFirst Wednesday Connections of the Highland Park Chamber of Commerce is a vibrant\, active meeting that attracts business people from throughout the north shore - Chamber members and potential members - and cultivates an environment of connecting and professional growth.\n\n\n\n+ Connect and reconnect with other area professionals\n\n+ Chat with Chamber Board Members\n\n+ Promote and GROW your business\n\n+ Learn about other great Chamber events\, activities and opportunities\n\n \n\nNew to the Chamber? Even more of a reason to come and introduce yourself.
X-ALT-DESC;FMTTYPE=text/html:<br />\n<br />\n<span style="font-size:14px\;">April&#39\;s First Wednesday Connections meeting is going virtual! We will be hosting this morning meeting as an interactive\, video conference for you to <strong>&quot\;Ask the Experts.&quot\;</strong>&nbsp\; Mitch Bienvenue\, </span><span style="font-size:16px\;"><em><span style="caret-color: rgb(31\, 73\, 125)\; font-family: Calibri\, sans-serif\;">Director of the Illinois Small Business Development &amp\; International Trade Center</span></em></span><span style="font-size:14px\;"><em>&nbsp\;at CLC</em>&nbsp\;and Jon Levey\, <em>President Highland Park Bank &amp\; Trust</em>\, will be with us to discuss the updates to small business emergency capital\, and to answer your questions. Please\, still register ahead of time so we know how many to expect on the conference line.<br />\n<br />\n<strong>Link to virtual meeting to be added here soon.</strong></span><br />\n<br />\n<br />\n<br />\n<span style="font-family: arial\, sans-serif\;">First Wednesday Connections of the Highland Park Chamber of Commerce is a vibrant\, active meeting that attracts business people from throughout the north shore - Chamber members and potential members - and cultivates an environment of connecting and professional growth.<br />\n<br />\n+ Connect and reconnect with other area professionals<br />\n+ Chat with Chamber Board Members<br />\n+ Promote and GROW your business<br />\n+ Learn about other great Chamber events\, activities and opportunities<br />\n&nbsp\;<br />\n<strong>New to the Chamber? Even more of a reason to come and introduce yourself.</strong></span><br />\n&nbsp\;
LOCATION:The comfort of your own home
UID:e.70.7151
SEQUENCE:3
DTSTAMP:20260421T082740Z
URL:https://business.chamberhp.com/events/details/first-wednesday-connections-4-1-20-virtual-7151
END:VEVENT

END:VCALENDAR
