BEGIN:VCALENDAR
VERSION:2.0
PRODID:-//ChamberMaster//Event Calendar 2.0//EN
METHOD:PUBLISH
X-PUBLISHED-TTL:P3D
REFRESH-INTERVAL:P3D
CALSCALE:GREGORIAN
BEGIN:VEVENT
DTSTART:20260513T220000Z
DTEND:20260514T000000Z
X-MICROSOFT-CDO-ALLDAYEVENT:FALSE
SUMMARY:FORWARD FOCUS CONCIERGE MEDICINE RIBBON CUTTING CEREMONY
DESCRIPTION:Join us as we celebrate the grand opening of Forward Focus Concierge Medicine in Highland Park!\n\n\n\nThe Highland Park Chamber will be hosting a ribbon cutting ceremony at 5:00 PM on Tuesday\, May 13th to officially welcome Forward Focus Concierge Medicine to the community. The ribbon cutting will take place promptly at 5:00 PM\, so please plan to arrive on time or a few minutes early to show your support.\n\n\n\nFollowing the ceremony\, guests are invited to stay for a reception from 5:00 7:00 PM featuring drinks\, hors d'oeuvres\, and live entertainment.\n\n\n\nHelp us give Forward Focus Concierge Medicine a warm community welcome and celebrate this exciting new chapter we hope to see you there!\n\n\n\nAll members of the community are welcome!
X-ALT-DESC;FMTTYPE=text/html:<p><span style="font-size:16px\;"><span style="font-family:arial\;">Join us as we celebrate the grand opening of Forward Focus Concierge Medicine in Highland Park!<br />\n<br />\nThe Highland Park Chamber will be hosting a ribbon cutting ceremony at 5:00 PM on Tuesday\, May 13th to officially welcome Forward Focus Concierge Medicine to the community. The ribbon cutting will take place promptly at 5:00 PM\, so please plan to arrive on time or a few minutes early to show your support.<br />\n<br />\nFollowing the ceremony\, guests are invited to stay for a reception from 5:00&ndash\;7:00 PM featuring drinks\, hors d&rsquo\;oeuvres\, and live entertainment.<br />\n<br />\nHelp us give Forward Focus Concierge Medicine a warm community welcome and celebrate this exciting new chapter&mdash\;we hope to see you there!</span></span><br />\n<br />\n<em style="font-family: arial\; font-size: 16px\;">All members of the community are welcome!</em></p>\n
LOCATION:Forward Focus Concierge Medicine 799 Central Ave\, Ste 100 Highland Park\, IL\, 60035
UID:e.70.10768
SEQUENCE:3
DTSTAMP:20260422T191259Z
URL:https://business.chamberhp.com/events/details/forward-focus-concierge-medicine-ribbon-cutting-ceremony-10768
END:VEVENT

END:VCALENDAR
