BEGIN:VCALENDAR
VERSION:2.0
PRODID:-//ChamberMaster//Event Calendar 2.0//EN
METHOD:PUBLISH
X-PUBLISHED-TTL:P3D
REFRESH-INTERVAL:P3D
CALSCALE:GREGORIAN
BEGIN:VEVENT
DTSTART:20260518T223000Z
DTEND:20260519T013000Z
X-MICROSOFT-CDO-ALLDAYEVENT:FALSE
SUMMARY:HPHS STUDENT HONORS NIGHT 2026
DESCRIPTION:Please join us at the Highland Park High School on Monday\, May 18th for the Highland Park High School Student Honors Night! On this wonderful evening\, the businesses of Highland Park recognize students from Highland Park High School by sponsoring scholarships to seniors. \n\n\n\nThese deserving students represent potential business and community leaders of the future. We hope you'll join us as we congratulate their accomplishments and leave inspired by their outstanding character.\n\n\n\nBusinesses that sponsor a scholarship are invited to a special meet-and-greet with their student recipient at the high school\, beginning at 5:30 PM.\n\n\n\nAll members of the community are welcome! No registration is required for the 6:30 pm program. \n \n\n\n\nSponsor Opportunity:\n\nThis is a great opportunity for your business if you want to invest in the future of our community. You'll gain positive visibility as you align yourself with this public-facing event. By sponsoring a scholarship\, you'll have the chance to present the certificate on stage during the program where your logo will be displayed in front of all attendees\, your name printed in all event programs\, and further reach through the Chamber's various communication platforms.\n\n\n\nA letter from the Chamber's Chair of the Board of Directors:\n\n\n\nDear Fellow Chamber Members:\n\n\n\nThe Highland Park Chamber of Commerce is proud to once again commit to providing scholarships to Highland Park High School graduates at the annual Student Honors program. This year's ceremony will be held on Monday\, May 18th.  The Chamber has long been an advocate for quality education in helping to build a stronger community and has been granting these scholarships to HPHS graduates for well over a decade.\n\n\n\nLast year\, together with member businesses and the Highland Park Chamber Board of Directors\, we awarded seven scholarships of $2\,000 each to qualifying students to assist in their college costs.\n\nWe are hoping to double our impact this year by awarding deserving students in the following four areas of interest:\n\n\n	Business/Entrepreneurship\n	Arts (Performing/Visual)\n	Community Service\n	Health/Medicine\n\nWe are asking Chamber members to please consider donating to this very worthy cause\, with a minimum contribution of $1\,000 in one of the four categories.  All contributing member businesses will be recognized by name on stage at the Honors ceremony and through the Chamber's social media communications.  If your business would like to solely sponsor one or more scholarships by contributing at least $2\,000 to a single category\, we would be so grateful!\n\n\n\nTo participate\, please complete the attached form and return it no later than March 31\, 2026.\n\n\n\nIf you have questions\, please reach out to Michelle Friedman\, President & CEO\, at 847-432-0284 or michelle@chamberhp.com.\n\n\n\nWe truly appreciate your support of tomorrow's leaders!\n\n\n\nBest Regards\,\n\n \n\nStacy Raven\n\nHighland Park Chamber of Commerce Board Chair\n\n\n\n\n\nInterested in sponsoring a scholarship for a well-deserved student? Please fill out and return this form or reach out to Michelle Friedman at (847) 432-0284 or michelle@chamberhp.com.
X-ALT-DESC;FMTTYPE=text/html:<p><span style="font-size:16px\;"><span style="font-family:arial\;"><span style="color: rgb(69\, 75\, 89)\;">Please join us at the <strong>Highland Park High School</strong> on <strong>Monday\, May 18th </strong>for the Highland Park High School Student Honors Night! On this wonderful evening\, the businesses of Highland Park recognize students from Highland Park High School by sponsoring scholarships to seniors.&nbsp\;<br />\n<br />\nThese deserving students represent potential business and community leaders of the future. We hope you&#39\;ll join us as we congratulate their accomplishments and leave inspired by their outstanding character.</span><br />\n<br />\nBusinesses that sponsor a scholarship are invited to a special meet-and-greet with their student recipient&nbsp\;at the high school\, beginning at 5:30 PM.</span></span><br />\n<br />\n<span style="font-family:arial\;"><span style="font-size:16px\;"><span style="color: rgb(69\, 75\, 89)\;"><span style="font-size:12px\;"><em>All members of the community are welcome! No registration is required for the 6:30 pm program.&nbsp\;</em></span></span></span></span></p>\n&nbsp\;\n\n<hr /><br />\n<span style="font-size:16px\;"><span style="font-family:arial\;">Sponsor Opportunity:<br />\nThis is a great opportunity for your business if you want to invest in the future of our community. You&#39\;ll gain positive visibility as you align yourself with this public-facing event. By sponsoring a scholarship\, you&#39\;ll have the chance to present the certificate on stage during the program where your logo will be displayed in front of all attendees\, your name printed in all event programs\, and further reach through the Chamber&#39\;s various communication platforms.</span></span><br />\n<br />\n<em><span style="font-size:14px\;"><span style="font-family:arial\;">A letter from the Chamber&#39\;s Chair of the Board of Directors:<br />\n<br />\nDear Fellow Chamber Members:<br />\n<br />\nThe Highland Park Chamber of Commerce is proud to once again commit to providing scholarships to Highland Park High School graduates at the annual Student Honors program. This year&rsquo\;s ceremony will be held on Monday\, May 18<sup>th</sup>. &nbsp\;The Chamber has long been an advocate for quality education in helping to build a stronger community and has been granting these scholarships to HPHS graduates for well over a decade.<br />\n<br />\nLast year\, together with member businesses and the Highland Park Chamber Board of Directors\, we awarded seven scholarships of $2\,000 each to qualifying students to assist in their college costs.<br />\nWe are hoping to double our impact this year by awarding deserving students in the following four areas of interest:</span></span></em>\n\n<ul>\n	<li style="text-align:justify\;"><em><span style="font-size:14px\;"><span style="font-family:arial\;">Business/Entrepreneurship</span></span></em></li>\n	<li style="text-align:justify\;"><em><span style="font-size:14px\;"><span style="font-family:arial\;">Arts (Performing/Visual)</span></span></em></li>\n	<li style="text-align:justify\;"><em><span style="font-size:14px\;"><span style="font-family:arial\;">Community Service</span></span></em></li>\n	<li style="text-align:justify\;"><em><span style="font-size:14px\;"><span style="font-family:arial\;">Health/Medicine</span></span></em></li>\n</ul>\n<em><span style="font-size:14px\;"><span style="font-family:arial\;">We are asking Chamber members to please consider donating to this very worthy cause\, with a minimum contribution of $1\,000 in one of the four categories.&nbsp\; All contributing member businesses will be recognized by name on stage at the Honors ceremony and through the Chamber&rsquo\;s social media communications.&nbsp\; If your business would like to <u>solely</u> sponsor one or more scholarships by contributing at least $2\,000 to a single category\, we would be so grateful!<br />\n<br />\n<strong>To participate\, please complete <a href="https://chambermaster.blob.core.windows.net/userfiles/UserFiles/chambers/70/File/SignupForm_ScholarshipSponsor_HPHSStudentHonorsNight_2026.pdf"><span style="color:#0000FF\;">the attached form</span></a> and return it no later than <u>March 31\, 2026</u>.</strong><br />\n<br />\nIf you have questions\, please reach out to Michelle Friedman\, President &amp\; CEO\, at 847-432-0284 or michelle@chamberhp.com.<br />\n<br />\nWe truly appreciate your support of tomorrow&rsquo\;s leaders!<br />\n<br />\nBest Regards\,<br />\n&nbsp\;<br />\nStacy Raven<br />\nHighland Park Chamber of Commerce Board Chair</span></span></em><br />\n<br />\n<br />\n<span style="font-size:14px\;"><span style="font-family:arial\;"><strong>Interested in sponsoring a scholarship for a well-deserved student? Please <a href="https://chambermaster.blob.core.windows.net/userfiles/UserFiles/chambers/70/File/SignupForm_ScholarshipSponsor_HPHSStudentHonorsNight_2026.pdf"><span style="color:#0000FF\;">fill out and return this form</span></a> or reach out to Michelle Friedman at (847) 432-0284 or michelle@chamberhp.com.</strong></span></span><br />\n&nbsp\;
LOCATION:Highland Park High School 433 Vine Ave. Highland Park\, IL 60035
UID:e.70.10560
SEQUENCE:3
DTSTAMP:20260421T123313Z
URL:https://business.chamberhp.com/events/details/hphs-student-honors-night-2026-10560
END:VEVENT

END:VCALENDAR
