BEGIN:VCALENDAR
VERSION:2.0
PRODID:-//ChamberMaster//Event Calendar 2.0//EN
METHOD:PUBLISH
X-PUBLISHED-TTL:P3D
REFRESH-INTERVAL:P3D
CALSCALE:GREGORIAN
BEGIN:VEVENT
DTSTART:20170919T000000Z
DTEND:20170919T013000Z
X-MICROSOFT-CDO-ALLDAYEVENT:FALSE
SUMMARY:Lifetime Financial Security: How to Fund a Strategic Retirement Plan for You & Your Employees
DESCRIPTION:This workshop brings a comprehensive look into the retirement landscape available for business owners. Which plan is best suited for you? Given the paltry savings rate of most Americans\, the rising cost of living and medical care\, and the squeeze the middle class is feeling\, it is essential to pick a savings and investing strategy that fits the needs of each business owner.\n\n\n\nHolly Bach is an Associate at Lake Growth Financial services and a licensed financial professional in Chicago. As part of the Lake Growth team\, she has helped over 200 clients take back control of their financial future and build their businesses with savvy\, efficient financial solutions. Whether it's helping a client growing or selling a business\, save for retirement\, or save and pay for college\, Holly sets up a blueprint for her clients to follow and partners with them for the long haul. Holly works with people who want to grow their wealth in ways that are safe and predictable\, become their own source of financing\, and create tax-free income in retirement.\n\n\n\nSCORE - Counselors to America's Small Business - is a nonprofit association dedicated to entrepreneur education and the formation\, growth and success of small business in the US.\n\n\n\nThe workshop is presented by SCORE Chicago\, City of Highland Park's Office of Economic Development\, Highland Park Chamber of Commerce\, and the Library.\n\n \n\nAll programs will start at 7:00 pm and will be held in the Library's Auditorium.
X-ALT-DESC;FMTTYPE=text/html:This workshop brings a comprehensive look into the retirement landscape available for business owners. Which plan is best suited for you? Given the paltry savings rate of most Americans\, the rising cost of living and medical care\, and the squeeze the middle class is feeling\, it is essential to pick a savings and investing strategy that fits the needs of each business owner.<br />\n<br />\nHolly Bach is an Associate at Lake Growth Financial services and a licensed financial professional in Chicago. As part of the Lake Growth team\, she has helped over 200 clients take back control of their financial future and build their businesses with savvy\, efficient financial solutions. Whether it&#39\;s helping a client growing or selling a business\, save for retirement\, or save and pay for college\, Holly sets up a blueprint for her clients to follow and partners with them for the long haul. Holly works with people who want to grow their wealth in ways that are safe and predictable\, become their own source of financing\, and create tax-free income in retirement.<br />\n<br />\nSCORE - Counselors to America&#39\;s Small Business - is a nonprofit association dedicated to entrepreneur education and the formation\, growth and success of small business in the US.<br />\n<br />\nThe workshop is presented by SCORE Chicago\, City of Highland Park&#39\;s Office of Economic Development\, Highland Park Chamber of Commerce\, and the Library.<br />\n&nbsp\;<br />\nAll programs will start at 7:00 pm and will be held in the Library&rsquo\;s Auditorium.<br />\n<br />\n&nbsp\;
LOCATION:Highland Park Public Library 494 Laurel Avenue Lower Level Auditorium
UID:e.70.4946
SEQUENCE:3
DTSTAMP:20260421T055059Z
URL:https://business.chamberhp.com/events/details/lifetime-financial-security-how-to-fund-a-strategic-retirement-plan-for-you-your-employees-4946
END:VEVENT

END:VCALENDAR
