BEGIN:VCALENDAR
VERSION:2.0
PRODID:-//ChamberMaster//Event Calendar 2.0//EN
METHOD:PUBLISH
X-PUBLISHED-TTL:P3D
REFRESH-INTERVAL:P3D
CALSCALE:GREGORIAN
BEGIN:VEVENT
DTSTART:20260531T210000Z
DTEND:20260531T224500Z
X-MICROSOFT-CDO-ALLDAYEVENT:FALSE
SUMMARY:Northbrook Symphony: Romantic Essentials
DESCRIPTION:In the finale to the Northbrook Symphony's 46th season\, Gurnee-raised violinist Joshua Brown scales the heights of Brahms' Violin Concerto before the orchestra brings us the drama of Beethoven's "Eroica" Symphony.\n\n\n\nCome at 3pm for a pre-concert talk from Robbie Ellis.
X-ALT-DESC;FMTTYPE=text/html:In the finale to the Northbrook Symphony&#39\;s 46th season\, Gurnee-raised violinist Joshua Brown scales the heights of Brahms&#39\; Violin Concerto before the orchestra brings us the drama of Beethoven&#39\;s &quot\;Eroica&quot\; Symphony.<br />\n<br />\nCome at 3pm for a pre-concert talk from Robbie Ellis.
LOCATION:Sheely Center for the Performing Arts (2300 Shermer Rd\, Northbrook)
UID:e.70.10515
SEQUENCE:3
DTSTAMP:20260421T123933Z
URL:https://business.chamberhp.com/events/details/northbrook-symphony-romantic-essentials-10515
END:VEVENT

END:VCALENDAR
