BEGIN:VCALENDAR
VERSION:2.0
PRODID:-//ChamberMaster//Event Calendar 2.0//EN
METHOD:PUBLISH
X-PUBLISHED-TTL:P3D
REFRESH-INTERVAL:P3D
CALSCALE:GREGORIAN
BEGIN:VEVENT
DTSTART:20260509T000000Z
DTEND:20260509T040000Z
X-MICROSOFT-CDO-ALLDAYEVENT:FALSE
SUMMARY:TAC Benefit and Fundraiser
DESCRIPTION:Join us for a celebration of community and creativity featuring cocktails\, hors d'oeuvres\, and a curated silent auction to support our galleries\, classes\, scholarships\, and community events. This year's event highlights the incredible work of celebrity photographer Sandro Miller\, featuring his series on members of Chicago's historic Steppenwolf Theatre\, and members of the Chicago Imagists group\, Hairy Who. We look forward to seeing you there as we raise vital funds to keep the North Shore's home for artistic discovery thriving.
X-ALT-DESC;FMTTYPE=text/html:<span style="font-size:16px\;"><span style="font-family:arial\;">Join us for a celebration of community and creativity featuring cocktails\, hors d&#39\;oeuvres\, and a curated silent auction to support our galleries\, classes\, scholarships\, and community events. This year&rsquo\;s event highlights the incredible work of celebrity photographer Sandro Miller\, featuring his series on members of Chicago&rsquo\;s historic Steppenwolf Theatre\, and members of the Chicago Imagists group\, Hairy Who. We look forward to seeing you there as we raise vital funds to keep the North Shore&rsquo\;s home for artistic discovery thriving.</span></span>
LOCATION:The Art Center Highland Park 1957 Sheridan Road Highland Park\, IL 60035
UID:e.70.10561
SEQUENCE:3
DTSTAMP:20260421T140331Z
URL:https://business.chamberhp.com/events/details/tac-benefit-and-fundraiser-10561
END:VEVENT

END:VCALENDAR
