BEGIN:VCALENDAR
VERSION:2.0
PRODID:-//ChamberMaster//Event Calendar 2.0//EN
METHOD:PUBLISH
X-PUBLISHED-TTL:P3D
REFRESH-INTERVAL:P3D
CALSCALE:GREGORIAN
BEGIN:VEVENT
DTSTART:20240530T150000Z
DTEND:20240530T210000Z
X-MICROSOFT-CDO-ALLDAYEVENT:FALSE
SUMMARY:TAC: The Benefit Art Works
DESCRIPTION:In conjunction with its annual Spring Benefit on May 3\, The Art Center will show the work of Adam Siegel in which he will show a series of largescale works\, some of them created specifically for this exhibit.
X-ALT-DESC;FMTTYPE=text/html:In conjunction with its annual Spring Benefit on May 3\, The Art Center will show the work of Adam Siegel in which he will show a series of largescale works\, some of them created specifically for this exhibit.
LOCATION:The Art Center 1957 Sheridan Road Highland Park\, IL 60035
UID:e.70.10057
SEQUENCE:3
DTSTAMP:20260424T105126Z
URL:https://business.chamberhp.com/events/details/the-art-center-the-benefit-art-works-05-30-2024-10057
END:VEVENT

END:VCALENDAR
