BEGIN:VCALENDAR
VERSION:2.0
PRODID:-//ChamberMaster//Event Calendar 2.0//EN
METHOD:PUBLISH
X-PUBLISHED-TTL:P3D
REFRESH-INTERVAL:P3D
CALSCALE:GREGORIAN
BEGIN:VEVENT
DTSTART:20210612T140000Z
DTEND:20210612T170000Z
X-MICROSOFT-CDO-ALLDAYEVENT:FALSE
SUMMARY:The Gratitude Formula
DESCRIPTION:Gratitude is a practical system you can use every day to achieve success in your relationships\, career\, finances\, health\, personal pursuits\, spiritual growth\, and virtually any other aspect of your life. Join May McCarthy\, bestselling author of The Gratitude Formula: A 7-Step Success System to Create a Life That You Love\, and find out how to apply the details of this practice to create a life you love.  Visit www.infinityfoundation.org for information and registration and the zoom link will be emailed to you. If you have lost your job\, are under financial strain\, or are a first responder/essential worker please apply for a scholarship from the Reggi Marder Healing Scholarship Fund. CEU's are available.
X-ALT-DESC;FMTTYPE=text/html:Gratitude is a practical system you can use every day to achieve success in your relationships\, career\, finances\, health\, personal pursuits\, spiritual growth\, and virtually any other aspect of your life. Join May McCarthy\, bestselling author of&nbsp\;<em>The Gratitude Formula: A 7-Step Success System to Create a Life That You Love\,&nbsp\;</em>and find out how to apply the details of this practice to create a life you love.&nbsp\;&nbsp\;Visit&nbsp\;<a href="http://www.infinityfoundation.org/" style="color:purple\;">www.infinityfoundation.org</a>&nbsp\;for information and registration and the zoom link will be emailed to you.&nbsp\;<span style="color:#1d2228">If you have lost your job\, are under financial strain\, or are a first responder/essential worker please apply for a scholarship from the Reggi Marder Healing Scholarship Fund.&nbsp\;</span>CEU&rsquo\;s are available.&nbsp\;&nbsp\;
LOCATION:On Zoom from: Infinity Foundation 1280 Old Skokie Road Highland Park\, IL 60035
UID:e.70.7604
SEQUENCE:3
DTSTAMP:20260422T021044Z
URL:https://business.chamberhp.com/events/details/the-gratitude-formula-7604
END:VEVENT

END:VCALENDAR
