BEGIN:VCALENDAR
VERSION:2.0
PRODID:-//ChamberMaster//Event Calendar 2.0//EN
METHOD:PUBLISH
X-PUBLISHED-TTL:P3D
REFRESH-INTERVAL:P3D
CALSCALE:GREGORIAN
BEGIN:VEVENT
DTSTART:20260529T190000Z
DTEND:20260529T210000Z
X-MICROSOFT-CDO-ALLDAYEVENT:FALSE
SUMMARY:YOUNG PROFESSIONALS GROUP VOLUNTEER DAY
DESCRIPTION:Join the Highland Park Chamber of Commerce Young Professionals Group for a meaningful afternoon of giving back at the Moraine Township Food Pantry!\n\n\n\nThis is a great opportunity to connect with fellow young professionals while making a direct impact in our community. After the volunteer session\, we'll keep the connections going with a casual happy hour (Dutch treat)\, giving you time to unwind and continue the conversation.\n\n\n\nSpots are limited to just 15 participants\, so be sure to register early. Once filled\, a waitlist will be available.\n\n\n\nThe Young Professionals Group is designed for professionals aged 40 and under\, and you don't need to live or work in Highland Park to attend all are welcome to join and get involved.
X-ALT-DESC;FMTTYPE=text/html:<span style="font-size:16px\;"><span style="font-family:arial\;">Join the Highland Park Chamber of Commerce Young Professionals Group for a meaningful afternoon of giving back at the <a href="https://business.chamberhp.com/list/member/moraine-township-481">Moraine Township Food Pantry</a>!<br />\n<br />\nThis is a great opportunity to connect with fellow young professionals while making a direct impact in our community. After the volunteer session\, we&rsquo\;ll keep the connections going with a casual happy hour (Dutch treat)\, giving you time to unwind and continue the conversation.<br />\n<br />\nSpots are limited to just 15 participants\, so be sure to register early. Once filled\, a waitlist will be available.<br />\n<br />\n<em><span style="font-size:14px\;">The Young Professionals Group is designed for professionals aged 40 and under\, and you don&rsquo\;t need to live or work in Highland Park to attend&mdash\;all are welcome to join and get involved.</span></em></span></span><br />\n&nbsp\;
LOCATION:Moraine Township Food Pantry 800 Central Ave Highland Park\, IL 60035
UID:e.70.10767
SEQUENCE:3
DTSTAMP:20260421T112931Z
URL:https://business.chamberhp.com/events/details/young-professionals-group-volunteer-day-10767
END:VEVENT

END:VCALENDAR
